Workbook

Sheet Uke 42
A1: Nr. | B1: Hvor mange deltakere har det vært på…. | C1: Mandag | D1: Tirsdag | E1: Onsdag | F1: Torsdag | G1: Fredag | H1: Lørdag | I1: Søndag
B2: Aktiviteter på hverdager (mandag–fredag)
A3: 1. | B3: Babysang (både voksne og barn)
A4: 2. | B4: Barnekorøving ('både voksne og barn)
A5: 3. | B5: Besøk fra skole eller barnehage (både voksne og barn)
A6: 4. | B6: Etter-skole-tilbud for barn og unge
A7: 5. | B7: Familiesamlinger (både voksne og barn)
A8: 6. | B8: Øvrige aktiviteter for barn (både voksne og barn)
A9: 7. | B9: Samling for konfirmanter
A10: 8. | B10: Samlinger for unge (ikke kor)
A11: 9. | B11: Konserter i menighetens regi
A12: 10. | B12: Temakvelder
A13: 11. | B13: Korøving for ungdom, unge eller voksne
A14: 12. | B14: Åpen kirke eller lignende
... A21: 19. | B21: Hvor mange er innom kirken på aktiviteter og arrangementer i ukedager som ikke er nevnt over?
B23: Utleie av kirken hverdager (mandag–fredag)
A24: 20. | B24: Hvor mange ganger er kirken utlånt/utleid til andres aktiviteter i ukedagene? (Konserter, foredrag, foreningsaktivitet, osv.)
A25: 21. | B25: Dersom dere vet, hvor mange er innom kirken når den er utleid til andre?
B27: Aktiviteter i helgen (lørdag og søndag)
A28: 22. | B28: Bryllup
A29: 23. | B29: Gudstjenester
A30: 24. | B30: Søndagsskole
A31: 25. | B31: Aktiviteter og tilbud for barn
A32: 26. | B32: Samlinger for konfirmanter
A33: 27. | B33: Samlinger for andre unge (ikke konfirmanter)
A34: 28. | B34: Aktiviteter for voksne
A35: 29. | B35: Konserter i menighetens regi
A36: 30. | B36: Familiesamlinger
A37: 31. | B37: Besøkende i forbindelse med «åpen kirke» eller lignende
A38: 32. | B38: Hvor mange er innom kirken på aktiviteter og arrangementer i helgen som ikke er nevnt over?
B40: Utleie av kirken i helgen (lørdag og søndag)
A41: 33. | B41: Hvor mange ganger er kirken utlånt/utleid til andres aktiviteter i ukedagene? (Konserter, foredrag, foreningsaktivitet, osv.)
A42: 34. | B42: Dersom dere vet, hvor mange er innom kirken når den er utleid til andre?
B44: Aktiviteter utenfor kirkens lokaler (alle dager)
A45: 35. | B45: Antall andakter/diakonale samlinger på sykehjem/aldershjem
A46: 36. | B46: Deltakere på andakter/diakonale samlinger på sykehjem/aldershjem
A47: 37. | B47: Besøk i privat hjem / institusjon fra kirkelig ansatt
A48: 38. | B48: Besøk i privat hjem / institusjon fra frivillig
A49: 39. | B49: Antall temakvelder e.l. i lokalmiljøet med kirken som arrangør
A50: 40. | B50: Deltakere på temakvelder e.l. i lokalmiljøet med kirken som arrangør
...

Sheet Uke 43
A1: Nr. | B1: Hvor mange deltakere har det vært på…. | C1: Mandag | D1: Tirsdag | E1: Onsdag | F1: Torsdag | G1: Fredag | H1: Lørdag | I1: Søndag
B2: Aktiviteter på hverdager (mandag–fredag)
A3: 1. | B3: Babysang (både voksne og barn)
A4: 2. | B4: Barnekorøving ('både voksne og barn)
A5: 3. | B5: Besøk fra skole eller barnehage (både voksne og barn)
A6: 4. | B6: Etter-skole-tilbud for barn og unge
A7: 5. | B7: Familiesamlinger (både voksne og barn)
A8: 6. | B8: Øvrige aktiviteter for barn (både voksne og barn)
A9: 7. | B9: Samling for konfirmanter
A10: 8. | B10: Samlinger for unge (ikke kor)
A11: 9. | B11: Konserter i menighetens regi
A12: 10. | B12: Temakvelder
A13: 11. | B13: Korøving for ungdom, unge eller voksne
A14: 12. | B14: Åpen kirke eller lignende
... A21: 19. | B21: Hvor mange er innom kirken på aktiviteter og arrangementer i ukedager som ikke er nevnt over?
B23: Utleie av kirken hverdager (mandag–fredag)
A24: 20. | B24: Hvor mange ganger er kirken utlånt/utleid til andres aktiviteter i ukedagene? (Konserter, foredrag, foreningsaktivitet, osv.)
A25: 21. | B25: Dersom dere vet, hvor mange er innom kirken når den er utleid til andre?
B27: Aktiviteter i helgen (lørdag og søndag)
A28: 22. | B28: Bryllup
A29: 23. | B29: Gudstjenester
A30: 24. | B30: Søndagsskole
A31: 25. | B31: Aktiviteter og tilbud for barn
A32: 26. | B32: Samlinger for konfirmanter
A33: 27. | B33: Samlinger for andre unge (ikke konfirmanter)
A34: 28. | B34: Aktiviteter for voksne
A35: 29. | B35: Konserter i menighetens regi
A36: 30. | B36: Familiesamlinger
A37: 31. | B37: Besøkende i forbindelse med «åpen kirke» eller lignende
A38: 32. | B38: Hvor mange er innom kirken på aktiviteter og arrangementer i helgen som ikke er nevnt over?
B40: Utleie av kirken i helgen (lørdag og søndag)
A41: 33. | B41: Hvor mange ganger er kirken utlånt/utleid til andres aktiviteter i ukedagene? (Konserter, foredrag, foreningsaktivitet, osv.)
A42: 34. | B42: Dersom dere vet, hvor mange er innom kirken når den er utleid til andre?
B44: Aktiviteter utenfor kirkens lokaler (alle dager)
A45: 35. | B45: Antall andakter/diakonale samlinger på sykehjem/aldershjem
A46: 36. | B46: Deltakere på andakter/diakonale samlinger på sykehjem/aldershjem
A47: 37. | B47: Besøk i privat hjem / institusjon fra kirkelig ansatt
A48: 38. | B48: Besøk i privat hjem / institusjon fra frivillig
A49: 39. | B49: Antall temakvelder e.l. i lokalmiljøet med kirken som arrangør
A50: 40. | B50: Deltakere på temakvelder e.l. i lokalmiljøet med kirken som arrangør
...

Sheet Sum
A1: Nr. | B1: Hvor mange deltakere har det vært på…. | C1: Uke 42 | D1: Uke 43 | E1: Totalt
B2: Aktiviteter på hverdager (mandag–fredag)
A3: 1. | B3: Babysang (både voksne og barn) | C3: =SUM('Uke 42'!C3:I3) -> 0 | D3: =SUM('Uke 43'!C3:I3) -> 0 | E3: =C3+D3 -> 0
A4: 2. | B4: Barnekorøving ('både voksne og barn) | C4: =SUM('Uke 42'!C4:I4) -> 0 | D4: =SUM('Uke 43'!C4:I4) -> 0 | E4: =C4+D4 -> 0
A5: 3. | B5: Besøk fra skole eller barnehage (både voksne og barn) | C5: =SUM('Uke 42'!C5:I5) -> 0 | D5: =SUM('Uke 43'!C5:I5) -> 0 | E5: =C5+D5 -> 0
A6: 4. | B6: Etter-skole-tilbud for barn og unge | C6: =SUM('Uke 42'!C6:I6) -> 0 | D6: =SUM('Uke 43'!C6:I6) -> 0 | E6: =C6+D6 -> 0
A7: 5. | B7: Familiesamlinger (både voksne og barn) | C7: =SUM('Uke 42'!C7:I7) -> 0 | D7: =SUM('Uke 43'!C7:I7) -> 0 | E7: =C7+D7 -> 0
A8: 6. | B8: Øvrige aktiviteter for barn (både voksne og barn) | C8: =SUM('Uke 42'!C8:I8) -> 0 | D8: =SUM('Uke 43'!C8:I8) -> 0 | E8: =C8+D8 -> 0
A9: 7. | B9: Samling for konfirmanter | C9: =SUM('Uke 42'!C9:I9) -> 0 | D9: =SUM('Uke 43'!C9:I9) -> 0 | E9: =C9+D9 -> 0
A10: 8. | B10: Samlinger for unge (ikke kor) | C10: =SUM('Uke 42'!C10:I10) -> 0 | D10: =SUM('Uke 43'!C10:I10) -> 0 | E10: =C10+D10 -> 0
A11: 9. | B11: Konserter i menighetens regi | C11: =SUM('Uke 42'!C11:I11) -> 0 | D11: =SUM('Uke 43'!C11:I11) -> 0 | E11: =C11+D11 -> 0
A12: 10. | B12: Temakvelder | C12: =SUM('Uke 42'!C12:I12) -> 0 | D12: =SUM('Uke 43'!C12:I12) -> 0 | E12: =C12+D12 -> 0
A13: 11. | B13: Korøving for ungdom, unge eller voksne | C13: =SUM('Uke 42'!C13:I13) -> 0 | D13: =SUM('Uke 43'!C13:I13) -> 0 | E13: =C13+D13 -> 0
A14: 12. | B14: Åpen kirke eller lignende | C14: =SUM('Uke 42'!C14:I14) -> 0 | D14: =SUM('Uke 43'!C14:I14) -> 0 | E14: =C14+D14 -> 0
... A21: 19. | B21: Hvor mange er innom kirken på aktiviteter og arrangementer i ukedager som ikke er nevnt over? | C21: =SUM('Uke 42'!C21:I21) -> 0 | D21: =SUM('Uke 43'!C21:I21) -> 0 | E21: =C21+D21 -> 0
B23: Utleie av kirken hverdager (mandag–fredag)
A24: 20. | B24: Hvor mange ganger er kirken utlånt/utleid til andres aktiviteter i ukedagene? (Konserter, foredrag, foreningsaktivitet, osv.) | C24: =SUM('Uke 42'!C24:I24) -> 0 | D24: =SUM('Uke 43'!C24:I24) -> 0 | E24: =C24+D24 -> 0
A25: 21. | B25: Dersom dere vet, hvor mange er innom kirken når den er utleid til andre? | C25: =SUM('Uke 42'!C25:I25) -> 0 | D25: =SUM('Uke 43'!C25:I25) -> 0 | E25: =C25+D25 -> 0
B27: Aktiviteter i helgen (lørdag og søndag)
A28: 22. | B28: Bryllup | C28: =SUM('Uke 42'!C28:I28) -> 0 | D28: =SUM('Uke 43'!C28:I28) -> 0 | E28: =C28+D28 -> 0
A29: 23. | B29: Gudstjenester | C29: =SUM('Uke 42'!C29:I29) -> 0 | D29: =SUM('Uke 43'!C29:I29) -> 0 | E29: =C29+D29 -> 0
A30: 24. | B30: Søndagsskole | C30: =SUM('Uke 42'!C30:I30) -> 0 | D30: =SUM('Uke 43'!C30:I30) -> 0 | E30: =C30+D30 -> 0
A31: 25. | B31: Aktiviteter og tilbud for barn | C31: =SUM('Uke 42'!C31:I31) -> 0 | D31: =SUM('Uke 43'!C31:I31) -> 0 | E31: =C31+D31 -> 0
A32: 26. | B32: Samlinger for konfirmanter | C32: =SUM('Uke 42'!C32:I32) -> 0 | D32: =SUM('Uke 43'!C32:I32) -> 0 | E32: =C32+D32 -> 0
A33: 27. | B33: Samlinger for andre unge (ikke konfirmanter) | C33: =SUM('Uke 42'!C33:I33) -> 0 | D33: =SUM('Uke 43'!C33:I33) -> 0 | E33: =C33+D33 -> 0
A34: 28. | B34: Aktiviteter for voksne | C34: =SUM('Uke 42'!C34:I34) -> 0 | D34: =SUM('Uke 43'!C34:I34) -> 0 | E34: =C34+D34 -> 0
A35: 29. | B35: Konserter i menighetens regi | C35: =SUM('Uke 42'!C35:I35) -> 0 | D35: =SUM('Uke 43'!C35:I35) -> 0 | E35: =C35+D35 -> 0
A36: 30. | B36: Familiesamlinger | C36: =SUM('Uke 42'!C36:I36) -> 0 | D36: =SUM('Uke 43'!C36:I36) -> 0 | E36: =C36+D36 -> 0
A37: 31. | B37: Besøkende i forbindelse med «åpen kirke» eller lignende | C37: =SUM('Uke 42'!C37:I37) -> 0 | D37: =SUM('Uke 43'!C37:I37) -> 0 | E37: =C37+D37 -> 0
A38: 32. | B38: Hvor mange er innom kirken på aktiviteter og arrangementer i helgen som ikke er nevnt over? | C38: =SUM('Uke 42'!C38:I38) -> 0 | D38: =SUM('Uke 43'!C38:I38) -> 0 | E38: =C38+D38 -> 0
B40: Utleie av kirken i helgen (lørdag og søndag)
A41: 33. | B41: Hvor mange ganger er kirken utlånt/utleid til andres aktiviteter i helgen? (Konserter, foredrag, foreningsaktivitet, osv.) | C41: =SUM('Uke 42'!C41:I41) -> 0 | D41: =SUM('Uke 43'!C41:I41) -> 0 | E41: =C41+D41 -> 0
A42: 34. | B42: Dersom dere vet, hvor mange er innom kirken når den er utleid til andre? | C42: =SUM('Uke 42'!C42:I42) -> 0 | D42: =SUM('Uke 43'!C42:I42) -> 0 | E42: =C42+D42 -> 0
B44: Aktiviteter utenfor kirkens lokaler (alle dager)
A45: 35. | B45: Antall andakter/diakonale samlinger på sykehjem/aldershjem | C45: =SUM('Uke 42'!C45:I45) -> 0 | D45: =SUM('Uke 43'!C45:I45) -> 0 | E45: =C45+D45 -> 0
A46: 36. | B46: Deltakere på andakter/diakonale samlinger på sykehjem/aldershjem | C46: =SUM('Uke 42'!C46:I46) -> 0 | D46: =SUM('Uke 43'!C46:I46) -> 0 | E46: =C46+D46 -> 0
A47: 37. | B47: Besøk i privat hjem / institusjon fra kirkelig ansatt | C47: =SUM('Uke 42'!C47:I47) -> 0 | D47: =SUM('Uke 43'!C47:I47) -> 0 | E47: =C47+D47 -> 0
A48: 38. | B48: Besøk i privat hjem / institusjon fra frivillig | C48: =SUM('Uke 42'!C48:I48) -> 0 | D48: =SUM('Uke 43'!C48:I48) -> 0 | E48: =C48+D48 -> 0
A49: 39. | B49: Antall temakvelder e.l. i lokalmiljøet med kirken som arrangør | C49: =SUM('Uke 42'!C49:I49) -> 0 | D49: =SUM('Uke 43'!C49:I49) -> 0 | E49: =C49+D49 -> 0
A50: 40. | B50: Deltakere på temakvelder e.l. i lokalmiljøet med kirken som arrangør | C50: =SUM('Uke 42'!C50:I50) -> 0 | D50: =SUM('Uke 43'!C50:I50) -> 0 | E50: =C50+D50 -> 0
...
